BEGIN:VCALENDAR
VERSION:2.0
PRODID:-//Fiestas del Escudo - La Invasión - ECPv6.0.4//NONSGML v1.0//EN
CALSCALE:GREGORIAN
METHOD:PUBLISH
X-WR-CALNAME:Fiestas del Escudo - La Invasión
X-ORIGINAL-URL:https://fiestasdelescudo.es
X-WR-CALDESC:Eventos para Fiestas del Escudo - La Invasión
REFRESH-INTERVAL;VALUE=DURATION:PT1H
X-Robots-Tag:noindex
X-PUBLISHED-TTL:PT1H
BEGIN:VTIMEZONE
TZID:Europe/Madrid
BEGIN:DAYLIGHT
TZOFFSETFROM:+0100
TZOFFSETTO:+0200
TZNAME:CEST
DTSTART:20260329T010000
END:DAYLIGHT
BEGIN:STANDARD
TZOFFSETFROM:+0200
TZOFFSETTO:+0100
TZNAME:CET
DTSTART:20261025T010000
END:STANDARD
END:VTIMEZONE
BEGIN:VEVENT
DTSTART;VALUE=DATE:20260424
DTEND;VALUE=DATE:20260427
DTSTAMP:20260425T132138
CREATED:20260421T171321Z
LAST-MODIFIED:20260421T171332Z
UID:4741-1776988800-1777247999@fiestasdelescudo.es
SUMMARY:MERCADO MEDIEVAL FIESTAS DEL ESCUDO LA INVASIÓN
DESCRIPTION:
URL:https://fiestasdelescudo.es/agenda/mercado-medieval-fiestas-del-escudo-la-invasion/
END:VEVENT
BEGIN:VEVENT
DTSTART;TZID=Europe/Madrid:20260425T120000
DTEND;TZID=Europe/Madrid:20260425T170000
DTSTAMP:20260425T132138
CREATED:20260421T171726Z
LAST-MODIFIED:20260421T171726Z
UID:4751-1777118400-1777136400@fiestasdelescudo.es
SUMMARY:PASACALLES KABILAS Y MESNADAS
DESCRIPTION:
URL:https://fiestasdelescudo.es/agenda/pasacalles-kabilas-y-mesnadas-2/
END:VEVENT
BEGIN:VEVENT
DTSTART;TZID=Europe/Madrid:20260425T130000
DTEND;TZID=Europe/Madrid:20260425T170000
DTSTAMP:20260425T132138
CREATED:20260421T171818Z
LAST-MODIFIED:20260421T171818Z
UID:4753-1777122000-1777136400@fiestasdelescudo.es
SUMMARY:TRONAERA
DESCRIPTION:
URL:https://fiestasdelescudo.es/agenda/tronaera-2/
END:VEVENT
BEGIN:VEVENT
DTSTART;TZID=Europe/Madrid:20260425T183000
DTEND;TZID=Europe/Madrid:20260425T183000
DTSTAMP:20260425T132138
CREATED:20260421T171907Z
LAST-MODIFIED:20260421T171907Z
UID:4755-1777141800-1777141800@fiestasdelescudo.es
SUMMARY:DEGUSTACION PRODUCTOS TIPICOS
DESCRIPTION:
URL:https://fiestasdelescudo.es/agenda/degustacion-productos-tipicos-2/
END:VEVENT
BEGIN:VEVENT
DTSTART;TZID=Europe/Madrid:20260425T191500
DTEND;TZID=Europe/Madrid:20260425T191500
DTSTAMP:20260425T132138
CREATED:20260421T171948Z
LAST-MODIFIED:20260421T171948Z
UID:4757-1777144500-1777144500@fiestasdelescudo.es
SUMMARY:HOMENAJE A LA MUDA
DESCRIPTION:
URL:https://fiestasdelescudo.es/agenda/homenaje-a-la-muda-2/
END:VEVENT
BEGIN:VEVENT
DTSTART;TZID=Europe/Madrid:20260425T193000
DTEND;TZID=Europe/Madrid:20260425T193000
DTSTAMP:20260425T132138
CREATED:20260421T172029Z
LAST-MODIFIED:20260421T172029Z
UID:4759-1777145400-1777145400@fiestasdelescudo.es
SUMMARY:TROVO ANUNCIANDO LA INVASION
DESCRIPTION:
URL:https://fiestasdelescudo.es/agenda/trovo-anunciando-la-invasion-2/
END:VEVENT
BEGIN:VEVENT
DTSTART;TZID=Europe/Madrid:20260425T200000
DTEND;TZID=Europe/Madrid:20260425T200000
DTSTAMP:20260425T132138
CREATED:20260421T172109Z
LAST-MODIFIED:20260421T172109Z
UID:4761-1777147200-1777147200@fiestasdelescudo.es
SUMMARY:RECREACION DE LA INVASION
DESCRIPTION:
URL:https://fiestasdelescudo.es/agenda/recreacion-de-la-invasion/
END:VEVENT
BEGIN:VEVENT
DTSTART;TZID=Europe/Madrid:20260425T203000
DTEND;TZID=Europe/Madrid:20260425T203000
DTSTAMP:20260425T132138
CREATED:20260421T172151Z
LAST-MODIFIED:20260421T172151Z
UID:4763-1777149000-1777149000@fiestasdelescudo.es
SUMMARY:TRASLADO DE REHENES A GRANADA
DESCRIPTION:
URL:https://fiestasdelescudo.es/agenda/traslado-de-rehenes-a-granada-3/
END:VEVENT
BEGIN:VEVENT
DTSTART;TZID=Europe/Madrid:20260426T123000
DTEND;TZID=Europe/Madrid:20260426T123000
DTSTAMP:20260425T132138
CREATED:20260421T172248Z
LAST-MODIFIED:20260421T172248Z
UID:4765-1777206600-1777206600@fiestasdelescudo.es
SUMMARY:DESFILE EMBAJADA CRISTIANA
DESCRIPTION:
URL:https://fiestasdelescudo.es/agenda/desfile-embajada-cristiana-4/
END:VEVENT
BEGIN:VEVENT
DTSTART;TZID=Europe/Madrid:20260426T130000
DTEND;TZID=Europe/Madrid:20260426T130000
DTSTAMP:20260425T132138
CREATED:20260421T172335Z
LAST-MODIFIED:20260421T172335Z
UID:4767-1777208400-1777208400@fiestasdelescudo.es
SUMMARY:TROVO ANUNCIANDO LA EMBAJADA CRISTIANA
DESCRIPTION:
URL:https://fiestasdelescudo.es/agenda/trovo-anunciando-la-embajada-cristiana/
END:VEVENT
BEGIN:VEVENT
DTSTART;TZID=Europe/Madrid:20260426T131500
DTEND;TZID=Europe/Madrid:20260426T131500
DTSTAMP:20260425T132138
CREATED:20260421T172419Z
LAST-MODIFIED:20260421T172419Z
UID:4769-1777209300-1777209300@fiestasdelescudo.es
SUMMARY:EMBAJADA CRISTIANA
DESCRIPTION:
URL:https://fiestasdelescudo.es/agenda/embajada-cristiana-3/
END:VEVENT
BEGIN:VEVENT
DTSTART;TZID=Europe/Madrid:20260426T183000
DTEND;TZID=Europe/Madrid:20260426T183000
DTSTAMP:20260425T132138
CREATED:20260421T172456Z
LAST-MODIFIED:20260421T172456Z
UID:4771-1777228200-1777228200@fiestasdelescudo.es
SUMMARY:GRAN DESFILE FIN DE FIESTAS
DESCRIPTION:
URL:https://fiestasdelescudo.es/agenda/gran-desfile-fin-de-fiestas-5/
END:VEVENT
END:VCALENDAR